BEGIN:VCALENDAR
VERSION:2.0
PRODID:-//Redwood Falls Sportsmen&#039;s Club - ECPv6.15.20//NONSGML v1.0//EN
CALSCALE:GREGORIAN
METHOD:PUBLISH
X-WR-CALNAME:Redwood Falls Sportsmen&#039;s Club
X-ORIGINAL-URL:https://rwfsportsmensclub.com
X-WR-CALDESC:Events for Redwood Falls Sportsmen&#039;s Club
REFRESH-INTERVAL;VALUE=DURATION:PT1H
X-Robots-Tag:noindex
X-PUBLISHED-TTL:PT1H
BEGIN:VTIMEZONE
TZID:America/Chicago
BEGIN:DAYLIGHT
TZOFFSETFROM:-0600
TZOFFSETTO:-0500
TZNAME:CDT
DTSTART:20240310T080000
END:DAYLIGHT
BEGIN:STANDARD
TZOFFSETFROM:-0500
TZOFFSETTO:-0600
TZNAME:CST
DTSTART:20241103T070000
END:STANDARD
BEGIN:DAYLIGHT
TZOFFSETFROM:-0600
TZOFFSETTO:-0500
TZNAME:CDT
DTSTART:20250309T080000
END:DAYLIGHT
BEGIN:STANDARD
TZOFFSETFROM:-0500
TZOFFSETTO:-0600
TZNAME:CST
DTSTART:20251102T070000
END:STANDARD
BEGIN:DAYLIGHT
TZOFFSETFROM:-0600
TZOFFSETTO:-0500
TZNAME:CDT
DTSTART:20260308T080000
END:DAYLIGHT
BEGIN:STANDARD
TZOFFSETFROM:-0500
TZOFFSETTO:-0600
TZNAME:CST
DTSTART:20261101T070000
END:STANDARD
END:VTIMEZONE
BEGIN:VEVENT
DTSTART;TZID=America/Chicago:20250520T180000
DTEND;TZID=America/Chicago:20250520T200000
DTSTAMP:20260421T150031
CREATED:20250326T153951Z
LAST-MODIFIED:20250326T153951Z
UID:10000006-1747764000-1747771200@rwfsportsmensclub.com
SUMMARY:Regular Defensive Pistol League Schedule
DESCRIPTION:
URL:https://rwfsportsmensclub.com/event/regular-defensive-pistol-league-schedule/2025-05-20/
LOCATION:Redwood Falls Sportsmen’s Club\, 34813 Laser Ave\, Redwood Falls\, MN\, 56283\, United States
CATEGORIES:Defensive Pistol League
ATTACH;FMTTYPE=image/jpeg:https://rwfsportsmensclub.com/wp-content/uploads/2025/03/man-shooting-pistol-at-range.jpg
END:VEVENT
BEGIN:VEVENT
DTSTART;VALUE=DATE:20250518
DTEND;VALUE=DATE:20250519
DTSTAMP:20260421T150031
CREATED:20250326T154148Z
LAST-MODIFIED:20250326T154148Z
UID:10000029-1747526400-1747612799@rwfsportsmensclub.com
SUMMARY:High School Trap
DESCRIPTION:
URL:https://rwfsportsmensclub.com/event/high-school-trap/2025-05-18/
LOCATION:Redwood Falls Sportsmen’s Club\, 34813 Laser Ave\, Redwood Falls\, MN\, 56283\, United States
CATEGORIES:High School Trap
ATTACH;FMTTYPE=image/jpeg:https://rwfsportsmensclub.com/wp-content/uploads/2025/03/shotgun-with-shells-and-clay-targets-scaled.jpg
END:VEVENT
BEGIN:VEVENT
DTSTART;VALUE=DATE:20250514
DTEND;VALUE=DATE:20250515
DTSTAMP:20260421T150031
CREATED:20250326T154148Z
LAST-MODIFIED:20250326T154148Z
UID:10000028-1747180800-1747267199@rwfsportsmensclub.com
SUMMARY:High School Trap
DESCRIPTION:
URL:https://rwfsportsmensclub.com/event/high-school-trap/2025-05-14/
LOCATION:Redwood Falls Sportsmen’s Club\, 34813 Laser Ave\, Redwood Falls\, MN\, 56283\, United States
CATEGORIES:High School Trap
ATTACH;FMTTYPE=image/jpeg:https://rwfsportsmensclub.com/wp-content/uploads/2025/03/shotgun-with-shells-and-clay-targets-scaled.jpg
END:VEVENT
BEGIN:VEVENT
DTSTART;VALUE=DATE:20250511
DTEND;VALUE=DATE:20250512
DTSTAMP:20260421T150031
CREATED:20250326T154148Z
LAST-MODIFIED:20250326T154148Z
UID:10000027-1746921600-1747007999@rwfsportsmensclub.com
SUMMARY:High School Trap
DESCRIPTION:
URL:https://rwfsportsmensclub.com/event/high-school-trap/2025-05-11/
LOCATION:Redwood Falls Sportsmen’s Club\, 34813 Laser Ave\, Redwood Falls\, MN\, 56283\, United States
CATEGORIES:High School Trap
ATTACH;FMTTYPE=image/jpeg:https://rwfsportsmensclub.com/wp-content/uploads/2025/03/shotgun-with-shells-and-clay-targets-scaled.jpg
END:VEVENT
BEGIN:VEVENT
DTSTART;VALUE=DATE:20250507
DTEND;VALUE=DATE:20250508
DTSTAMP:20260421T150031
CREATED:20250326T154148Z
LAST-MODIFIED:20250326T154148Z
UID:10000026-1746576000-1746662399@rwfsportsmensclub.com
SUMMARY:High School Trap
DESCRIPTION:
URL:https://rwfsportsmensclub.com/event/high-school-trap/2025-05-07/
LOCATION:Redwood Falls Sportsmen’s Club\, 34813 Laser Ave\, Redwood Falls\, MN\, 56283\, United States
CATEGORIES:High School Trap
ATTACH;FMTTYPE=image/jpeg:https://rwfsportsmensclub.com/wp-content/uploads/2025/03/shotgun-with-shells-and-clay-targets-scaled.jpg
END:VEVENT
BEGIN:VEVENT
DTSTART;TZID=America/Chicago:20250506T180000
DTEND;TZID=America/Chicago:20250506T200000
DTSTAMP:20260421T150031
CREATED:20250326T153951Z
LAST-MODIFIED:20250326T153951Z
UID:10000005-1746554400-1746561600@rwfsportsmensclub.com
SUMMARY:Regular Defensive Pistol League Schedule
DESCRIPTION:
URL:https://rwfsportsmensclub.com/event/regular-defensive-pistol-league-schedule/2025-05-06/
LOCATION:Redwood Falls Sportsmen’s Club\, 34813 Laser Ave\, Redwood Falls\, MN\, 56283\, United States
CATEGORIES:Defensive Pistol League
ATTACH;FMTTYPE=image/jpeg:https://rwfsportsmensclub.com/wp-content/uploads/2025/03/man-shooting-pistol-at-range.jpg
END:VEVENT
BEGIN:VEVENT
DTSTART;VALUE=DATE:20250504
DTEND;VALUE=DATE:20250505
DTSTAMP:20260421T150031
CREATED:20250326T154148Z
LAST-MODIFIED:20250326T154148Z
UID:10000025-1746316800-1746403199@rwfsportsmensclub.com
SUMMARY:High School Trap
DESCRIPTION:
URL:https://rwfsportsmensclub.com/event/high-school-trap/2025-05-04/
LOCATION:Redwood Falls Sportsmen’s Club\, 34813 Laser Ave\, Redwood Falls\, MN\, 56283\, United States
CATEGORIES:High School Trap
ATTACH;FMTTYPE=image/jpeg:https://rwfsportsmensclub.com/wp-content/uploads/2025/03/shotgun-with-shells-and-clay-targets-scaled.jpg
END:VEVENT
BEGIN:VEVENT
DTSTART;VALUE=DATE:20250430
DTEND;VALUE=DATE:20250501
DTSTAMP:20260421T150031
CREATED:20250326T154148Z
LAST-MODIFIED:20250326T154148Z
UID:10000024-1745971200-1746057599@rwfsportsmensclub.com
SUMMARY:High School Trap
DESCRIPTION:
URL:https://rwfsportsmensclub.com/event/high-school-trap/2025-04-30/
LOCATION:Redwood Falls Sportsmen’s Club\, 34813 Laser Ave\, Redwood Falls\, MN\, 56283\, United States
CATEGORIES:High School Trap
ATTACH;FMTTYPE=image/jpeg:https://rwfsportsmensclub.com/wp-content/uploads/2025/03/shotgun-with-shells-and-clay-targets-scaled.jpg
END:VEVENT
BEGIN:VEVENT
DTSTART;TZID=America/Chicago:20250429T173000
DTEND;TZID=America/Chicago:20250429T193000
DTSTAMP:20260421T150031
CREATED:20250326T154818Z
LAST-MODIFIED:20250326T154818Z
UID:10000031-1745947800-1745955000@rwfsportsmensclub.com
SUMMARY:Defensive Pistol Introduction
DESCRIPTION:Interested in becoming more proficient with you favorite handgun? Bring 50 rounds of ammo\, an outside the waistband holster\, extra magazines\, ammo pouches (optional)\, eye and ear pro\, and dress for the weather. No open toe shoes\, flip flops etc
URL:https://rwfsportsmensclub.com/event/defensive-pistol-introduction/
LOCATION:Redwood Falls Sportsmen’s Club\, 34813 Laser Ave\, Redwood Falls\, MN\, 56283\, United States
ATTACH;FMTTYPE=image/jpeg:https://rwfsportsmensclub.com/wp-content/uploads/2025/03/pistol-instruction-at-the-range.jpeg
END:VEVENT
BEGIN:VEVENT
DTSTART;TZID=America/Chicago:20250429T173000
DTEND;TZID=America/Chicago:20250429T183000
DTSTAMP:20260421T150031
CREATED:20250326T114547Z
LAST-MODIFIED:20250326T114846Z
UID:10000004-1745947800-1745951400@rwfsportsmensclub.com
SUMMARY:Warm Up Night - Defensive Pistol League
DESCRIPTION:
URL:https://rwfsportsmensclub.com/event/warm-up-night-defensive-pistol-league/
LOCATION:Redwood Falls Sportsmen’s Club\, 34813 Laser Ave\, Redwood Falls\, MN\, 56283\, United States
CATEGORIES:Defensive Pistol League,Public Event
END:VEVENT
BEGIN:VEVENT
DTSTART;VALUE=DATE:20250427
DTEND;VALUE=DATE:20250428
DTSTAMP:20260421T150031
CREATED:20250326T154148Z
LAST-MODIFIED:20250326T154148Z
UID:10000023-1745712000-1745798399@rwfsportsmensclub.com
SUMMARY:High School Trap
DESCRIPTION:
URL:https://rwfsportsmensclub.com/event/high-school-trap/2025-04-27/
LOCATION:Redwood Falls Sportsmen’s Club\, 34813 Laser Ave\, Redwood Falls\, MN\, 56283\, United States
CATEGORIES:High School Trap
ATTACH;FMTTYPE=image/jpeg:https://rwfsportsmensclub.com/wp-content/uploads/2025/03/shotgun-with-shells-and-clay-targets-scaled.jpg
END:VEVENT
BEGIN:VEVENT
DTSTART;VALUE=DATE:20250423
DTEND;VALUE=DATE:20250424
DTSTAMP:20260421T150031
CREATED:20250326T154148Z
LAST-MODIFIED:20250326T154148Z
UID:10000022-1745366400-1745452799@rwfsportsmensclub.com
SUMMARY:High School Trap
DESCRIPTION:
URL:https://rwfsportsmensclub.com/event/high-school-trap/2025-04-23/
LOCATION:Redwood Falls Sportsmen’s Club\, 34813 Laser Ave\, Redwood Falls\, MN\, 56283\, United States
CATEGORIES:High School Trap
ATTACH;FMTTYPE=image/jpeg:https://rwfsportsmensclub.com/wp-content/uploads/2025/03/shotgun-with-shells-and-clay-targets-scaled.jpg
END:VEVENT
BEGIN:VEVENT
DTSTART;VALUE=DATE:20250420
DTEND;VALUE=DATE:20250421
DTSTAMP:20260421T150031
CREATED:20250326T154148Z
LAST-MODIFIED:20250326T154148Z
UID:10000021-1745107200-1745193599@rwfsportsmensclub.com
SUMMARY:High School Trap
DESCRIPTION:
URL:https://rwfsportsmensclub.com/event/high-school-trap/2025-04-20/
LOCATION:Redwood Falls Sportsmen’s Club\, 34813 Laser Ave\, Redwood Falls\, MN\, 56283\, United States
CATEGORIES:High School Trap
ATTACH;FMTTYPE=image/jpeg:https://rwfsportsmensclub.com/wp-content/uploads/2025/03/shotgun-with-shells-and-clay-targets-scaled.jpg
END:VEVENT
BEGIN:VEVENT
DTSTART;VALUE=DATE:20250416
DTEND;VALUE=DATE:20250417
DTSTAMP:20260421T150031
CREATED:20250326T154148Z
LAST-MODIFIED:20250326T154148Z
UID:10000020-1744761600-1744847999@rwfsportsmensclub.com
SUMMARY:High School Trap
DESCRIPTION:
URL:https://rwfsportsmensclub.com/event/high-school-trap/2025-04-16/
LOCATION:Redwood Falls Sportsmen’s Club\, 34813 Laser Ave\, Redwood Falls\, MN\, 56283\, United States
CATEGORIES:High School Trap
ATTACH;FMTTYPE=image/jpeg:https://rwfsportsmensclub.com/wp-content/uploads/2025/03/shotgun-with-shells-and-clay-targets-scaled.jpg
END:VEVENT
BEGIN:VEVENT
DTSTART;VALUE=DATE:20250413
DTEND;VALUE=DATE:20250414
DTSTAMP:20260421T150031
CREATED:20250326T154148Z
LAST-MODIFIED:20250326T154148Z
UID:10000019-1744502400-1744588799@rwfsportsmensclub.com
SUMMARY:High School Trap
DESCRIPTION:
URL:https://rwfsportsmensclub.com/event/high-school-trap/2025-04-13/
LOCATION:Redwood Falls Sportsmen’s Club\, 34813 Laser Ave\, Redwood Falls\, MN\, 56283\, United States
CATEGORIES:High School Trap
ATTACH;FMTTYPE=image/jpeg:https://rwfsportsmensclub.com/wp-content/uploads/2025/03/shotgun-with-shells-and-clay-targets-scaled.jpg
END:VEVENT
BEGIN:VEVENT
DTSTART;VALUE=DATE:20250409
DTEND;VALUE=DATE:20250410
DTSTAMP:20260421T150031
CREATED:20250326T154148Z
LAST-MODIFIED:20250326T154148Z
UID:10000018-1744156800-1744243199@rwfsportsmensclub.com
SUMMARY:High School Trap
DESCRIPTION:
URL:https://rwfsportsmensclub.com/event/high-school-trap/2025-04-09/
LOCATION:Redwood Falls Sportsmen’s Club\, 34813 Laser Ave\, Redwood Falls\, MN\, 56283\, United States
CATEGORIES:High School Trap
ATTACH;FMTTYPE=image/jpeg:https://rwfsportsmensclub.com/wp-content/uploads/2025/03/shotgun-with-shells-and-clay-targets-scaled.jpg
END:VEVENT
BEGIN:VEVENT
DTSTART;VALUE=DATE:20250406
DTEND;VALUE=DATE:20250407
DTSTAMP:20260421T150031
CREATED:20250326T154148Z
LAST-MODIFIED:20250326T154148Z
UID:10000017-1743897600-1743983999@rwfsportsmensclub.com
SUMMARY:High School Trap
DESCRIPTION:
URL:https://rwfsportsmensclub.com/event/high-school-trap/2025-04-06/
LOCATION:Redwood Falls Sportsmen’s Club\, 34813 Laser Ave\, Redwood Falls\, MN\, 56283\, United States
CATEGORIES:High School Trap
ATTACH;FMTTYPE=image/jpeg:https://rwfsportsmensclub.com/wp-content/uploads/2025/03/shotgun-with-shells-and-clay-targets-scaled.jpg
END:VEVENT
BEGIN:VEVENT
DTSTART;TZID=America/Chicago:20250404T180000
DTEND;TZID=America/Chicago:20250404T200000
DTSTAMP:20260421T150031
CREATED:20250206T163903Z
LAST-MODIFIED:20250326T154445Z
UID:10000002-1743789600-1743796800@rwfsportsmensclub.com
SUMMARY:Annual Member Appreciation Banquet
DESCRIPTION:This year the banquet is going to be held at the Redwood Area Community Center.
URL:https://rwfsportsmensclub.com/event/annual-member-appreciation-banquet/
LOCATION:Redwood Area Community Center
ATTACH;FMTTYPE=image/jpeg:https://rwfsportsmensclub.com/wp-content/uploads/2022/03/pulled-pork.jpg
END:VEVENT
BEGIN:VEVENT
DTSTART;VALUE=DATE:20250402
DTEND;VALUE=DATE:20250403
DTSTAMP:20260421T150031
CREATED:20250326T154148Z
LAST-MODIFIED:20250326T154148Z
UID:10000016-1743552000-1743638399@rwfsportsmensclub.com
SUMMARY:High School Trap
DESCRIPTION:
URL:https://rwfsportsmensclub.com/event/high-school-trap/2025-04-02/
LOCATION:Redwood Falls Sportsmen’s Club\, 34813 Laser Ave\, Redwood Falls\, MN\, 56283\, United States
CATEGORIES:High School Trap
ATTACH;FMTTYPE=image/jpeg:https://rwfsportsmensclub.com/wp-content/uploads/2025/03/shotgun-with-shells-and-clay-targets-scaled.jpg
END:VEVENT
BEGIN:VEVENT
DTSTART;VALUE=DATE:20250330
DTEND;VALUE=DATE:20250331
DTSTAMP:20260421T150031
CREATED:20250326T154148Z
LAST-MODIFIED:20250326T154148Z
UID:10000015-1743292800-1743379199@rwfsportsmensclub.com
SUMMARY:High School Trap
DESCRIPTION:
URL:https://rwfsportsmensclub.com/event/high-school-trap/2025-03-30/
LOCATION:Redwood Falls Sportsmen’s Club\, 34813 Laser Ave\, Redwood Falls\, MN\, 56283\, United States
CATEGORIES:High School Trap
ATTACH;FMTTYPE=image/jpeg:https://rwfsportsmensclub.com/wp-content/uploads/2025/03/shotgun-with-shells-and-clay-targets-scaled.jpg
END:VEVENT
END:VCALENDAR