BEGIN:VCALENDAR
VERSION:2.0
PRODID:-//Redwood Falls Sportsmen&#039;s Club - ECPv6.15.20//NONSGML v1.0//EN
CALSCALE:GREGORIAN
METHOD:PUBLISH
X-ORIGINAL-URL:https://rwfsportsmensclub.com
X-WR-CALDESC:Events for Redwood Falls Sportsmen&#039;s Club
REFRESH-INTERVAL;VALUE=DURATION:PT1H
X-Robots-Tag:noindex
X-PUBLISHED-TTL:PT1H
BEGIN:VTIMEZONE
TZID:America/Chicago
BEGIN:DAYLIGHT
TZOFFSETFROM:-0600
TZOFFSETTO:-0500
TZNAME:CDT
DTSTART:20250309T080000
END:DAYLIGHT
BEGIN:STANDARD
TZOFFSETFROM:-0500
TZOFFSETTO:-0600
TZNAME:CST
DTSTART:20251102T070000
END:STANDARD
BEGIN:DAYLIGHT
TZOFFSETFROM:-0600
TZOFFSETTO:-0500
TZNAME:CDT
DTSTART:20260308T080000
END:DAYLIGHT
BEGIN:STANDARD
TZOFFSETFROM:-0500
TZOFFSETTO:-0600
TZNAME:CST
DTSTART:20261101T070000
END:STANDARD
BEGIN:DAYLIGHT
TZOFFSETFROM:-0600
TZOFFSETTO:-0500
TZNAME:CDT
DTSTART:20270314T080000
END:DAYLIGHT
BEGIN:STANDARD
TZOFFSETFROM:-0500
TZOFFSETTO:-0600
TZNAME:CST
DTSTART:20271107T070000
END:STANDARD
END:VTIMEZONE
BEGIN:VEVENT
DTSTART;TZID=America/Chicago:20260811T173000
DTEND;TZID=America/Chicago:20260811T200000
DTSTAMP:20260424T125958
CREATED:20251222T172802Z
LAST-MODIFIED:20260304T163449Z
UID:10000065-1786469400-1786478400@rwfsportsmensclub.com
SUMMARY:Defensive Pistol League
DESCRIPTION:#8   Come out and join Larry’s Ladies
URL:https://rwfsportsmensclub.com/event/defensive-pistol-league-8/
LOCATION:Redwood Falls Sportsmen’s Club\, 34813 Laser Ave\, Redwood Falls\, MN\, 56283\, United States
CATEGORIES:Action Pistol,Defensive Pistol League
ATTACH;FMTTYPE=image/jpeg:https://rwfsportsmensclub.com/wp-content/uploads/2025/12/lady-shooters.jpg
END:VEVENT
BEGIN:VEVENT
DTSTART;TZID=America/Chicago:20260825T173000
DTEND;TZID=America/Chicago:20260825T200000
DTSTAMP:20260424T125958
CREATED:20251222T172939Z
LAST-MODIFIED:20260304T163144Z
UID:10000066-1787679000-1787688000@rwfsportsmensclub.com
SUMMARY:Defensive Pistol League
DESCRIPTION:#9
URL:https://rwfsportsmensclub.com/event/defensive-pistol-league-9/
LOCATION:Redwood Falls Sportsmen’s Club\, 34813 Laser Ave\, Redwood Falls\, MN\, 56283\, United States
CATEGORIES:Action Pistol,Defensive Pistol League
END:VEVENT
BEGIN:VEVENT
DTSTART;TZID=America/Chicago:20260908T173000
DTEND;TZID=America/Chicago:20260908T200000
DTSTAMP:20260424T125958
CREATED:20251222T173118Z
LAST-MODIFIED:20260304T162944Z
UID:10000067-1788888600-1788897600@rwfsportsmensclub.com
SUMMARY:Defensive Pistol League
DESCRIPTION:30 The last night of League
URL:https://rwfsportsmensclub.com/event/defensive-pistol-league-10/
LOCATION:Redwood Falls Sportsmen’s Club\, 34813 Laser Ave\, Redwood Falls\, MN\, 56283\, United States
CATEGORIES:Action Pistol,Defensive Pistol League
END:VEVENT
BEGIN:VEVENT
DTSTART;TZID=America/Chicago:20260915T173000
DTEND;TZID=America/Chicago:20260915T190000
DTSTAMP:20260424T125958
CREATED:20251222T173456Z
LAST-MODIFIED:20260304T160253Z
UID:10000068-1789493400-1789498800@rwfsportsmensclub.com
SUMMARY:Defensive Pistol League Awards
DESCRIPTION:This is awards night. Night is coming early. There are two fun stages. Try a different gun. Bring something to share.
URL:https://rwfsportsmensclub.com/event/defensive-pistol-league-awards/
LOCATION:MN
CATEGORIES:Action Pistol,Defensive Pistol League
END:VEVENT
END:VCALENDAR