BEGIN:VCALENDAR
VERSION:2.0
PRODID:-//Redwood Falls Sportsmen&#039;s Club - ECPv6.15.20//NONSGML v1.0//EN
CALSCALE:GREGORIAN
METHOD:PUBLISH
X-WR-CALNAME:Redwood Falls Sportsmen&#039;s Club
X-ORIGINAL-URL:https://rwfsportsmensclub.com
X-WR-CALDESC:Events for Redwood Falls Sportsmen&#039;s Club
REFRESH-INTERVAL;VALUE=DURATION:PT1H
X-Robots-Tag:noindex
X-PUBLISHED-TTL:PT1H
BEGIN:VTIMEZONE
TZID:America/Chicago
BEGIN:DAYLIGHT
TZOFFSETFROM:-0600
TZOFFSETTO:-0500
TZNAME:CDT
DTSTART:20240310T080000
END:DAYLIGHT
BEGIN:STANDARD
TZOFFSETFROM:-0500
TZOFFSETTO:-0600
TZNAME:CST
DTSTART:20241103T070000
END:STANDARD
BEGIN:DAYLIGHT
TZOFFSETFROM:-0600
TZOFFSETTO:-0500
TZNAME:CDT
DTSTART:20250309T080000
END:DAYLIGHT
BEGIN:STANDARD
TZOFFSETFROM:-0500
TZOFFSETTO:-0600
TZNAME:CST
DTSTART:20251102T070000
END:STANDARD
BEGIN:DAYLIGHT
TZOFFSETFROM:-0600
TZOFFSETTO:-0500
TZNAME:CDT
DTSTART:20260308T080000
END:DAYLIGHT
BEGIN:STANDARD
TZOFFSETFROM:-0500
TZOFFSETTO:-0600
TZNAME:CST
DTSTART:20261101T070000
END:STANDARD
END:VTIMEZONE
BEGIN:VEVENT
DTSTART;TZID=America/Chicago:20250729T180000
DTEND;TZID=America/Chicago:20250729T200000
DTSTAMP:20260424T083329
CREATED:20250716T150757Z
LAST-MODIFIED:20250716T150758Z
UID:10000011-1753812000-1753819200@rwfsportsmensclub.com
SUMMARY:Regular Defensive Pistol League Schedule
DESCRIPTION:This event is cancelled for tonight and rescheduled for 5 Aug 25.
URL:https://rwfsportsmensclub.com/event/regular-defensive-pistol-league-schedule-2/
LOCATION:Redwood Falls Sportsmen’s Club\, 34813 Laser Ave\, Redwood Falls\, MN\, 56283\, United States
CATEGORIES:Defensive Pistol League
ATTACH;FMTTYPE=image/png:https://rwfsportsmensclub.com/wp-content/uploads/2025/03/icon-ceasefire.png
END:VEVENT
END:VCALENDAR